BEGIN:VCALENDAR
VERSION:2.0
PRODID:-//Plembay - ECPv6.15.18//NONSGML v1.0//EN
CALSCALE:GREGORIAN
METHOD:PUBLISH
X-ORIGINAL-URL:https://plembay.com
X-WR-CALDESC:Eventos para Plembay
REFRESH-INTERVAL;VALUE=DURATION:PT1H
X-Robots-Tag:noindex
X-PUBLISHED-TTL:PT1H
BEGIN:VTIMEZONE
TZID:America/Mexico_City
BEGIN:STANDARD
TZOFFSETFROM:-0600
TZOFFSETTO:-0600
TZNAME:CST
DTSTART:20230101T000000
END:STANDARD
END:VTIMEZONE
BEGIN:VEVENT
DTSTART;TZID=America/Mexico_City:20250301T120000
DTEND;TZID=America/Mexico_City:20250301T133000
DTSTAMP:20260421T080113
CREATED:20250223T034522Z
LAST-MODIFIED:20250223T034522Z
UID:9011-1740830400-1740835800@plembay.com
SUMMARY:METAMORFOSIS
DESCRIPTION:
URL:https://plembay.com/event/metamorfosis/
LOCATION:Teatro San Millán\, Lucas Alamán S/N\, Obrera\, Cuauhtémoc\, CDMX\, 06800\, Mexico
END:VEVENT
BEGIN:VEVENT
DTSTART;TZID=America/Mexico_City:20250301T100000
DTEND;TZID=America/Mexico_City:20250301T233000
DTSTAMP:20260421T080113
CREATED:20250223T034450Z
LAST-MODIFIED:20250223T041132Z
UID:9009-1740823200-1740871800@plembay.com
SUMMARY:LAS SOLDADERAS (Revolución Mexicana)
DESCRIPTION:Revolución Mexicana
URL:https://plembay.com/event/las-soldaderas/
LOCATION:Teatro San Millán\, Lucas Alamán S/N\, Obrera\, Cuauhtémoc\, CDMX\, 06800\, Mexico
END:VEVENT
BEGIN:VEVENT
DTSTART;TZID=America/Mexico_City:20250222T160000
DTEND;TZID=America/Mexico_City:20250222T173000
DTSTAMP:20260421T080113
CREATED:20250223T034400Z
LAST-MODIFIED:20250223T034400Z
UID:9007-1740240000-1740245400@plembay.com
SUMMARY:EL MUNDO DE SOFIA
DESCRIPTION:
URL:https://plembay.com/event/el-mundo-de-sofia/
LOCATION:Teatro San Millán\, Lucas Alamán S/N\, Obrera\, Cuauhtémoc\, CDMX\, 06800\, Mexico
END:VEVENT
BEGIN:VEVENT
DTSTART;TZID=America/Mexico_City:20250222T140000
DTEND;TZID=America/Mexico_City:20250222T153000
DTSTAMP:20260421T080113
CREATED:20250223T034324Z
LAST-MODIFIED:20250223T034324Z
UID:9005-1740232800-1740238200@plembay.com
SUMMARY:EL HOMBRE QUE CALCULABA
DESCRIPTION:
URL:https://plembay.com/event/el-hombre-que-calculaba-2/
LOCATION:Teatro San Millán\, Lucas Alamán S/N\, Obrera\, Cuauhtémoc\, CDMX\, 06800\, Mexico
END:VEVENT
BEGIN:VEVENT
DTSTART;TZID=America/Mexico_City:20250222T120000
DTEND;TZID=America/Mexico_City:20250222T133000
DTSTAMP:20260421T080113
CREATED:20250223T034235Z
LAST-MODIFIED:20250223T042345Z
UID:9003-1740225600-1740231000@plembay.com
SUMMARY:LA CLASE DE LOS SUEÑOS (Valores y Bullying)
DESCRIPTION:Valores y Bullying
URL:https://plembay.com/event/la-clase-de-los-suenos-2/
LOCATION:Teatro San Millán\, Lucas Alamán S/N\, Obrera\, Cuauhtémoc\, CDMX\, 06800\, Mexico
END:VEVENT
BEGIN:VEVENT
DTSTART;TZID=America/Mexico_City:20250222T100000
DTEND;TZID=America/Mexico_City:20250222T233000
DTSTAMP:20260421T080113
CREATED:20250223T033943Z
LAST-MODIFIED:20250223T034136Z
UID:9000-1740218400-1740267000@plembay.com
SUMMARY:La Malinche (Uj Tlatoani)
DESCRIPTION:
URL:https://plembay.com/event/la-malinche/
LOCATION:Teatro San Millán\, Lucas Alamán S/N\, Obrera\, Cuauhtémoc\, CDMX\, 06800\, Mexico
END:VEVENT
BEGIN:VEVENT
DTSTART;TZID=America/Mexico_City:20240630T140000
DTEND;TZID=America/Mexico_City:20240630T160000
DTSTAMP:20260421T080113
CREATED:20240618T181730Z
LAST-MODIFIED:20240618T182024Z
UID:7895-1719756000-1719763200@plembay.com
SUMMARY:SER O ESTAR (Autoestima)
DESCRIPTION:
URL:https://plembay.com/event/ser-o-estar-autoestima-2/
LOCATION:Teatro San Millán\, Lucas Alamán S/N\, Obrera\, Cuauhtémoc\, CDMX\, 06800\, Mexico
END:VEVENT
BEGIN:VEVENT
DTSTART;TZID=America/Mexico_City:20240630T120000
DTEND;TZID=America/Mexico_City:20240630T140000
DTSTAMP:20260421T080113
CREATED:20240618T181729Z
LAST-MODIFIED:20240618T182309Z
UID:7894-1719748800-1719756000@plembay.com
SUMMARY:LA CLASE DE LOS SUEÑOS
DESCRIPTION:
URL:https://plembay.com/event/la-clase-de-los-sueos/
LOCATION:Teatro San Millán\, Lucas Alamán S/N\, Obrera\, Cuauhtémoc\, CDMX\, 06800\, Mexico
END:VEVENT
BEGIN:VEVENT
DTSTART;TZID=America/Mexico_City:20240630T100000
DTEND;TZID=America/Mexico_City:20240630T120000
DTSTAMP:20260421T080113
CREATED:20240618T181729Z
LAST-MODIFIED:20240618T182238Z
UID:7893-1719741600-1719748800@plembay.com
SUMMARY:HASTA EL ÁGUILA REQUIERE DE UN IMPULSO (Conferencia Motivacional)
DESCRIPTION:
URL:https://plembay.com/event/hasta-el-cguila-requiere-de-un-impulso-conferencia-motivacional/
LOCATION:Teatro San Millán\, Lucas Alamán S/N\, Obrera\, Cuauhtémoc\, CDMX\, 06800\, Mexico
END:VEVENT
BEGIN:VEVENT
DTSTART;TZID=America/Mexico_City:20240629T140000
DTEND;TZID=America/Mexico_City:20240629T160000
DTSTAMP:20260421T080113
CREATED:20240618T180948Z
LAST-MODIFIED:20240618T180948Z
UID:7889-1719669600-1719676800@plembay.com
SUMMARY:DIÁLOGO ENTRE CIENTÍFICOS (Matemáticas\, Física\, Química\, Biología y Geografía)
DESCRIPTION:
URL:https://plembay.com/event/dialogo-entre-cientificos-matematicas-fisica-quimica-biologia-y-geografia/
LOCATION:Teatro San Millán\, Lucas Alamán S/N\, Obrera\, Cuauhtémoc\, CDMX\, 06800\, Mexico
END:VEVENT
BEGIN:VEVENT
DTSTART;TZID=America/Mexico_City:20240629T120000
DTEND;TZID=America/Mexico_City:20240629T140000
DTSTAMP:20260421T080113
CREATED:20240618T180519Z
LAST-MODIFIED:20240618T180519Z
UID:7887-1719662400-1719669600@plembay.com
SUMMARY:BULLYING CIBERNÉTICO
DESCRIPTION:
URL:https://plembay.com/event/bullying-cibernetico/
LOCATION:Teatro San Millán\, Lucas Alamán S/N\, Obrera\, Cuauhtémoc\, CDMX\, 06800\, Mexico
END:VEVENT
BEGIN:VEVENT
DTSTART;TZID=America/Mexico_City:20240629T100000
DTEND;TZID=America/Mexico_City:20240629T120000
DTSTAMP:20260421T080113
CREATED:20240618T180405Z
LAST-MODIFIED:20240618T180405Z
UID:7885-1719655200-1719662400@plembay.com
SUMMARY:EL NEOLIBERALISMO (De la Madrid a Peña Nieto)
DESCRIPTION:
URL:https://plembay.com/event/el-neoliberalismo-de-la-madrid-a-pena-nieto/
LOCATION:Teatro San Millán\, Lucas Alamán S/N\, Obrera\, Cuauhtémoc\, CDMX\, 06800\, Mexico
END:VEVENT
BEGIN:VEVENT
DTSTART;TZID=America/Mexico_City:20240623T160000
DTEND;TZID=America/Mexico_City:20240623T180000
DTSTAMP:20260421T080113
CREATED:20240618T180232Z
LAST-MODIFIED:20240618T180232Z
UID:7883-1719158400-1719165600@plembay.com
SUMMARY:HASTA EL ÁGUILA REQUIERE UN IMPULSO (Conferencia Motivacional)
DESCRIPTION:
URL:https://plembay.com/event/hasta-el-aguila-requiere-un-impulso-conferencia-motivacional/
LOCATION:Teatro San Millán\, Lucas Alamán S/N\, Obrera\, Cuauhtémoc\, CDMX\, 06800\, Mexico
END:VEVENT
BEGIN:VEVENT
DTSTART;TZID=America/Mexico_City:20240623T140000
DTEND;TZID=America/Mexico_City:20240623T160000
DTSTAMP:20260421T080113
CREATED:20240618T175926Z
LAST-MODIFIED:20240618T175926Z
UID:7881-1719151200-1719158400@plembay.com
SUMMARY:SER O ESTAR (Autoestima)
DESCRIPTION:
URL:https://plembay.com/event/ser-o-estar-autoestima/
LOCATION:Teatro San Millán\, Lucas Alamán S/N\, Obrera\, Cuauhtémoc\, CDMX\, 06800\, Mexico
END:VEVENT
BEGIN:VEVENT
DTSTART;TZID=America/Mexico_City:20240623T120000
DTEND;TZID=America/Mexico_City:20240623T140000
DTSTAMP:20260421T080113
CREATED:20240618T175842Z
LAST-MODIFIED:20240618T175842Z
UID:7879-1719144000-1719151200@plembay.com
SUMMARY:LA CLASE DE LOS SUEÑOS
DESCRIPTION:
URL:https://plembay.com/event/la-clase-de-los-suenos/
LOCATION:Teatro San Millán\, Lucas Alamán S/N\, Obrera\, Cuauhtémoc\, CDMX\, 06800\, Mexico
END:VEVENT
BEGIN:VEVENT
DTSTART;TZID=America/Mexico_City:20240622T140000
DTEND;TZID=America/Mexico_City:20240622T160000
DTSTAMP:20260421T080113
CREATED:20240618T175720Z
LAST-MODIFIED:20240618T181311Z
UID:7877-1719064800-1719072000@plembay.com
SUMMARY:EL HOMBRE QUE CALCULABA
DESCRIPTION:
URL:https://plembay.com/event/el-hombre-que-calculaba/
LOCATION:Teatro San Millán\, Lucas Alamán S/N\, Obrera\, Cuauhtémoc\, CDMX\, 06800\, Mexico
END:VEVENT
BEGIN:VEVENT
DTSTART;TZID=America/Mexico_City:20240622T120000
DTEND;TZID=America/Mexico_City:20240622T140000
DTSTAMP:20260421T080113
CREATED:20240618T175607Z
LAST-MODIFIED:20240618T175636Z
UID:7875-1719057600-1719064800@plembay.com
SUMMARY:LA VIDA QUE NOS QUEDÓ
DESCRIPTION:
URL:https://plembay.com/event/la-vida-que-nos-quedo/
LOCATION:Teatro San Millán\, Lucas Alamán S/N\, Obrera\, Cuauhtémoc\, CDMX\, 06800\, Mexico
END:VEVENT
BEGIN:VEVENT
DTSTART;TZID=America/Mexico_City:20240622T100000
DTEND;TZID=America/Mexico_City:20240622T120000
DTSTAMP:20260421T080113
CREATED:20240618T165352Z
LAST-MODIFIED:20240618T174126Z
UID:7861-1719050400-1719057600@plembay.com
SUMMARY:EL NEOLIBERALISMO (De la Madrid a Peña Nieto)
DESCRIPTION:
URL:https://plembay.com/event/obra-1/
LOCATION:Teatro San Millán\, Lucas Alamán S/N\, Obrera\, Cuauhtémoc\, CDMX\, 06800\, Mexico
END:VEVENT
END:VCALENDAR